BEGIN:VCALENDAR
VERSION:2.0
PRODID:-//Public Works - ECPv6.15.14//NONSGML v1.0//EN
CALSCALE:GREGORIAN
METHOD:PUBLISH
X-WR-CALNAME:Public Works
X-ORIGINAL-URL:https://specialdistricts.sbcounty.gov
X-WR-CALDESC:Events for Public Works
REFRESH-INTERVAL;VALUE=DURATION:PT1H
X-Robots-Tag:noindex
X-PUBLISHED-TTL:PT1H
BEGIN:VTIMEZONE
TZID:UTC
BEGIN:STANDARD
TZOFFSETFROM:+0000
TZOFFSETTO:+0000
TZNAME:UTC
DTSTART:20200101T000000
END:STANDARD
END:VTIMEZONE
BEGIN:VEVENT
DTSTART;TZID=UTC:20211016T100000
DTEND;TZID=UTC:20211016T120000
DTSTAMP:20260419T235021
CREATED:20210930T002029Z
LAST-MODIFIED:20211004T214614Z
UID:17635-1634378400-1634385600@specialdistricts.sbcounty.gov
SUMMARY:Community Cleanup Day
DESCRIPTION:CSA 70 Havasu Lake offers a special ‘dump day’ for residents to dispose of large volumes and large household items\, see attached flyer for details.
URL:https://specialdistricts.sbcounty.gov/event/community-cleanup-day/
LOCATION:Lake Boulevard\, Corner of Lake Boulevard and Havasu Lake Road\, Havasu Lake\, CA\, United States
CATEGORIES:CSA 70HL,Water & Sanitation
END:VEVENT
END:VCALENDAR