BEGIN:VCALENDAR
VERSION:2.0
PRODID:-//Public Works - ECPv6.15.14//NONSGML v1.0//EN
CALSCALE:GREGORIAN
METHOD:PUBLISH
X-ORIGINAL-URL:https://specialdistricts.sbcounty.gov
X-WR-CALDESC:Events for Public Works
REFRESH-INTERVAL;VALUE=DURATION:PT1H
X-Robots-Tag:noindex
X-PUBLISHED-TTL:PT1H
BEGIN:VTIMEZONE
TZID:America/Denver
BEGIN:DAYLIGHT
TZOFFSETFROM:-0700
TZOFFSETTO:-0600
TZNAME:MDT
DTSTART:20210314T090000
END:DAYLIGHT
BEGIN:STANDARD
TZOFFSETFROM:-0600
TZOFFSETTO:-0700
TZNAME:MST
DTSTART:20211107T080000
END:STANDARD
BEGIN:DAYLIGHT
TZOFFSETFROM:-0700
TZOFFSETTO:-0600
TZNAME:MDT
DTSTART:20220313T090000
END:DAYLIGHT
BEGIN:STANDARD
TZOFFSETFROM:-0600
TZOFFSETTO:-0700
TZNAME:MST
DTSTART:20221106T080000
END:STANDARD
BEGIN:DAYLIGHT
TZOFFSETFROM:-0700
TZOFFSETTO:-0600
TZNAME:MDT
DTSTART:20230312T090000
END:DAYLIGHT
BEGIN:STANDARD
TZOFFSETFROM:-0600
TZOFFSETTO:-0700
TZNAME:MST
DTSTART:20231105T080000
END:STANDARD
END:VTIMEZONE
BEGIN:VEVENT
DTSTART;TZID=America/Denver:20220507T100000
DTEND;TZID=America/Denver:20220507T120000
DTSTAMP:20260419T200739
CREATED:20220414T224231Z
LAST-MODIFIED:20220414T224334Z
UID:10000332-1651917600-1651924800@specialdistricts.sbcounty.gov
SUMMARY:CSA 70 HL Clean-Up Day
DESCRIPTION:Staff will be present at the corner of Lake Boulevard & Havasu Lake Road on May 7\, 2022\, between the hours of 10am-12noon for residents of CSA 70 Havasu Lake to dispose of large household items. This Household Waste Clean-up Day is intended to assist residents in conducting their “Spring Cleaning” of excess or large household waste. Hazardous waste\, fridges\, freezers\, AC units\, Commercial/industrial waste from businesses or e-waste will not be accepted. Feel free to call Special Districts for more information (909) 386-8800. \n\n\n\nHere is the flyer for the event
URL:https://specialdistricts.sbcounty.gov/event/csa-70-hl-clean-up-day/
LOCATION:Lake Boulevard\, Corner of Lake Boulevard and Havasu Lake Road\, Havasu Lake\, CA\, United States
CATEGORIES:CSA 70HL
END:VEVENT
END:VCALENDAR