BEGIN:VCALENDAR
VERSION:2.0
PRODID:-//Public Works - ECPv6.15.14//NONSGML v1.0//EN
CALSCALE:GREGORIAN
METHOD:PUBLISH
X-WR-CALNAME:Public Works
X-ORIGINAL-URL:https://specialdistricts.sbcounty.gov
X-WR-CALDESC:Events for Public Works
REFRESH-INTERVAL;VALUE=DURATION:PT1H
X-Robots-Tag:noindex
X-PUBLISHED-TTL:PT1H
BEGIN:VTIMEZONE
TZID:America/Los_Angeles
BEGIN:DAYLIGHT
TZOFFSETFROM:-0800
TZOFFSETTO:-0700
TZNAME:PDT
DTSTART:20230312T100000
END:DAYLIGHT
BEGIN:STANDARD
TZOFFSETFROM:-0700
TZOFFSETTO:-0800
TZNAME:PST
DTSTART:20231105T090000
END:STANDARD
BEGIN:DAYLIGHT
TZOFFSETFROM:-0800
TZOFFSETTO:-0700
TZNAME:PDT
DTSTART:20240310T100000
END:DAYLIGHT
BEGIN:STANDARD
TZOFFSETFROM:-0700
TZOFFSETTO:-0800
TZNAME:PST
DTSTART:20241103T090000
END:STANDARD
BEGIN:DAYLIGHT
TZOFFSETFROM:-0800
TZOFFSETTO:-0700
TZNAME:PDT
DTSTART:20250309T100000
END:DAYLIGHT
BEGIN:STANDARD
TZOFFSETFROM:-0700
TZOFFSETTO:-0800
TZNAME:PST
DTSTART:20251102T090000
END:STANDARD
END:VTIMEZONE
BEGIN:VEVENT
DTSTART;TZID=America/Los_Angeles:20240907T080000
DTEND;TZID=America/Los_Angeles:20241026T170000
DTSTAMP:20260424T043651
CREATED:20240625T144143Z
LAST-MODIFIED:20240625T144143Z
UID:10006601-1725696000-1729962000@specialdistricts.sbcounty.gov
SUMMARY:Youth Soccer 2024
DESCRIPTION:This is a recreation youth sports program. League is open to all Boys & Girls ages 4 – 12. \nAll Games are played at Kessler Park 18401 Jurupa Ave\, Bloomington CA 92136. Games are Saturday afternoons. Each child will play 8 games and receive a full uniform. ( Jersey\, Shorts and Socks) \nRegistration is OPEN NOW! Last day to register is Friday August 16th. Season runs September & October. \nTo register please click here \nRegistration fee is $90.00
URL:https://specialdistricts.sbcounty.gov/event/youth-soccer-2024/2024-09-07/
LOCATION:Kessler Park\, 18401 Jurupa Ave 92316\, Bloomington\, CA\, 92316
CATEGORIES:Bloomington Rec and Park
END:VEVENT
BEGIN:VEVENT
DTSTART;TZID=America/Los_Angeles:20240914T080000
DTEND;TZID=America/Los_Angeles:20241102T170000
DTSTAMP:20260424T043651
CREATED:20240625T144143Z
LAST-MODIFIED:20240625T144143Z
UID:10006604-1726300800-1730566800@specialdistricts.sbcounty.gov
SUMMARY:Youth Soccer 2024
DESCRIPTION:This is a recreation youth sports program. League is open to all Boys & Girls ages 4 – 12. \nAll Games are played at Kessler Park 18401 Jurupa Ave\, Bloomington CA 92136. Games are Saturday afternoons. Each child will play 8 games and receive a full uniform. ( Jersey\, Shorts and Socks) \nRegistration is OPEN NOW! Last day to register is Friday August 16th. Season runs September & October. \nTo register please click here \nRegistration fee is $90.00
URL:https://specialdistricts.sbcounty.gov/event/youth-soccer-2024/2024-09-14/
LOCATION:Kessler Park\, 18401 Jurupa Ave 92316\, Bloomington\, CA\, 92316
CATEGORIES:Bloomington Rec and Park
END:VEVENT
BEGIN:VEVENT
DTSTART;TZID=America/Los_Angeles:20240921T080000
DTEND;TZID=America/Los_Angeles:20241109T160000
DTSTAMP:20260424T043651
CREATED:20240625T144143Z
LAST-MODIFIED:20240625T144143Z
UID:10006607-1726905600-1731168000@specialdistricts.sbcounty.gov
SUMMARY:Youth Soccer 2024
DESCRIPTION:This is a recreation youth sports program. League is open to all Boys & Girls ages 4 – 12. \nAll Games are played at Kessler Park 18401 Jurupa Ave\, Bloomington CA 92136. Games are Saturday afternoons. Each child will play 8 games and receive a full uniform. ( Jersey\, Shorts and Socks) \nRegistration is OPEN NOW! Last day to register is Friday August 16th. Season runs September & October. \nTo register please click here \nRegistration fee is $90.00
URL:https://specialdistricts.sbcounty.gov/event/youth-soccer-2024/2024-09-21/
LOCATION:Kessler Park\, 18401 Jurupa Ave 92316\, Bloomington\, CA\, 92316
CATEGORIES:Bloomington Rec and Park
END:VEVENT
BEGIN:VEVENT
DTSTART;TZID=America/Los_Angeles:20240928T080000
DTEND;TZID=America/Los_Angeles:20241116T160000
DTSTAMP:20260424T043651
CREATED:20240625T144143Z
LAST-MODIFIED:20240625T144143Z
UID:10006610-1727510400-1731772800@specialdistricts.sbcounty.gov
SUMMARY:Youth Soccer 2024
DESCRIPTION:This is a recreation youth sports program. League is open to all Boys & Girls ages 4 – 12. \nAll Games are played at Kessler Park 18401 Jurupa Ave\, Bloomington CA 92136. Games are Saturday afternoons. Each child will play 8 games and receive a full uniform. ( Jersey\, Shorts and Socks) \nRegistration is OPEN NOW! Last day to register is Friday August 16th. Season runs September & October. \nTo register please click here \nRegistration fee is $90.00
URL:https://specialdistricts.sbcounty.gov/event/youth-soccer-2024/2024-09-28/
LOCATION:Kessler Park\, 18401 Jurupa Ave 92316\, Bloomington\, CA\, 92316
CATEGORIES:Bloomington Rec and Park
END:VEVENT
BEGIN:VEVENT
DTSTART;TZID=America/Los_Angeles:20241005T080000
DTEND;TZID=America/Los_Angeles:20241123T160000
DTSTAMP:20260424T043651
CREATED:20240625T144143Z
LAST-MODIFIED:20240625T144143Z
UID:10006613-1728115200-1732377600@specialdistricts.sbcounty.gov
SUMMARY:Youth Soccer 2024
DESCRIPTION:This is a recreation youth sports program. League is open to all Boys & Girls ages 4 – 12. \nAll Games are played at Kessler Park 18401 Jurupa Ave\, Bloomington CA 92136. Games are Saturday afternoons. Each child will play 8 games and receive a full uniform. ( Jersey\, Shorts and Socks) \nRegistration is OPEN NOW! Last day to register is Friday August 16th. Season runs September & October. \nTo register please click here \nRegistration fee is $90.00
URL:https://specialdistricts.sbcounty.gov/event/youth-soccer-2024/2024-10-05/
LOCATION:Kessler Park\, 18401 Jurupa Ave 92316\, Bloomington\, CA\, 92316
CATEGORIES:Bloomington Rec and Park
END:VEVENT
BEGIN:VEVENT
DTSTART;TZID=America/Los_Angeles:20241012T080000
DTEND;TZID=America/Los_Angeles:20241130T160000
DTSTAMP:20260424T043651
CREATED:20240625T144143Z
LAST-MODIFIED:20240625T144143Z
UID:10006616-1728720000-1732982400@specialdistricts.sbcounty.gov
SUMMARY:Youth Soccer 2024
DESCRIPTION:This is a recreation youth sports program. League is open to all Boys & Girls ages 4 – 12. \nAll Games are played at Kessler Park 18401 Jurupa Ave\, Bloomington CA 92136. Games are Saturday afternoons. Each child will play 8 games and receive a full uniform. ( Jersey\, Shorts and Socks) \nRegistration is OPEN NOW! Last day to register is Friday August 16th. Season runs September & October. \nTo register please click here \nRegistration fee is $90.00
URL:https://specialdistricts.sbcounty.gov/event/youth-soccer-2024/2024-10-12/
LOCATION:Kessler Park\, 18401 Jurupa Ave 92316\, Bloomington\, CA\, 92316
CATEGORIES:Bloomington Rec and Park
END:VEVENT
BEGIN:VEVENT
DTSTART;TZID=America/Los_Angeles:20241019T080000
DTEND;TZID=America/Los_Angeles:20241207T160000
DTSTAMP:20260424T043651
CREATED:20240625T144143Z
LAST-MODIFIED:20240625T144143Z
UID:10006619-1729324800-1733587200@specialdistricts.sbcounty.gov
SUMMARY:Youth Soccer 2024
DESCRIPTION:This is a recreation youth sports program. League is open to all Boys & Girls ages 4 – 12. \nAll Games are played at Kessler Park 18401 Jurupa Ave\, Bloomington CA 92136. Games are Saturday afternoons. Each child will play 8 games and receive a full uniform. ( Jersey\, Shorts and Socks) \nRegistration is OPEN NOW! Last day to register is Friday August 16th. Season runs September & October. \nTo register please click here \nRegistration fee is $90.00
URL:https://specialdistricts.sbcounty.gov/event/youth-soccer-2024/2024-10-19/
LOCATION:Kessler Park\, 18401 Jurupa Ave 92316\, Bloomington\, CA\, 92316
CATEGORIES:Bloomington Rec and Park
END:VEVENT
BEGIN:VEVENT
DTSTART;TZID=America/Los_Angeles:20241026T080000
DTEND;TZID=America/Los_Angeles:20241214T160000
DTSTAMP:20260424T043651
CREATED:20240625T144143Z
LAST-MODIFIED:20240625T144143Z
UID:10006622-1729929600-1734192000@specialdistricts.sbcounty.gov
SUMMARY:Youth Soccer 2024
DESCRIPTION:This is a recreation youth sports program. League is open to all Boys & Girls ages 4 – 12. \nAll Games are played at Kessler Park 18401 Jurupa Ave\, Bloomington CA 92136. Games are Saturday afternoons. Each child will play 8 games and receive a full uniform. ( Jersey\, Shorts and Socks) \nRegistration is OPEN NOW! Last day to register is Friday August 16th. Season runs September & October. \nTo register please click here \nRegistration fee is $90.00
URL:https://specialdistricts.sbcounty.gov/event/youth-soccer-2024/2024-10-26/
LOCATION:Kessler Park\, 18401 Jurupa Ave 92316\, Bloomington\, CA\, 92316
CATEGORIES:Bloomington Rec and Park
END:VEVENT
BEGIN:VEVENT
DTSTART;TZID=America/Los_Angeles:20241026T100000
DTEND;TZID=America/Los_Angeles:20241026T120000
DTSTAMP:20260424T043651
CREATED:20241024T182531Z
LAST-MODIFIED:20241024T182531Z
UID:10015833-1729936800-1729944000@specialdistricts.sbcounty.gov
SUMMARY:Western Days
DESCRIPTION: 
URL:https://specialdistricts.sbcounty.gov/event/western-days/
LOCATION:Kessler Park\, 18401 Jurupa Ave 92316\, Bloomington\, CA\, 92316
CATEGORIES:Bloomington Rec and Park
END:VEVENT
BEGIN:VEVENT
DTSTART;TZID=America/Los_Angeles:20241026T110000
DTEND;TZID=America/Los_Angeles:20241026T153000
DTSTAMP:20260424T043651
CREATED:20240905T195819Z
LAST-MODIFIED:20240927T190353Z
UID:10009310-1729940400-1729956600@specialdistricts.sbcounty.gov
SUMMARY:Meditation Classes
DESCRIPTION:  \nmeditation-classes
URL:https://specialdistricts.sbcounty.gov/event/meditation-classes/2024-10-26/
LOCATION:Joshua Tree Community Center\, 6171 Sunburst Avenue\, Joshua Tree\, CA\, 92252\, United States
CATEGORIES:County Service Area 20
END:VEVENT
BEGIN:VEVENT
DTSTART;TZID=America/Los_Angeles:20241026T160000
DTEND;TZID=America/Los_Angeles:20241026T200000
DTSTAMP:20260424T043651
CREATED:20241024T181939Z
LAST-MODIFIED:20241024T181939Z
UID:10015830-1729958400-1729972800@specialdistricts.sbcounty.gov
SUMMARY:Haunted House and Trunk or Treat
DESCRIPTION:Get ready to be scared! The Joshua Tree Community Center will be Haunted on October 25th and 26th. Where: 6171 Sunburst Steet\, Joshua Tree\, CA 92252 When: 10/25 from 5-9pm and 10/26 from 4-8pm. Cost: Haunted House Tickets are $5 per person. 5 and under free. Additionally\, on 10/26 from 4-8\, there will be a simultaneous Trunk or Treat event in the Community Center Parking lot. This activity is free to the public.
URL:https://specialdistricts.sbcounty.gov/event/haunted-house-and-trunk-or-treat/
LOCATION:Joshua Tree Community Center\, 6171 Sunburst Avenue\, Joshua Tree\, CA\, 92252\, United States
CATEGORIES:County Service Area 20
ATTACH;FMTTYPE=image/jpeg:https://specialdistricts.sbcounty.gov/wp-content/uploads/sites/54/2024/10/JT-Halloween-2024-Flyer-scaled.jpg
END:VEVENT
BEGIN:VEVENT
DTSTART;TZID=America/Los_Angeles:20241026T170000
DTEND;TZID=America/Los_Angeles:20241026T200000
DTSTAMP:20260424T043651
CREATED:20241024T182710Z
LAST-MODIFIED:20241024T214911Z
UID:10015836-1729962000-1729972800@specialdistricts.sbcounty.gov
SUMMARY:BRPD Trunk or Treat
DESCRIPTION:
URL:https://specialdistricts.sbcounty.gov/event/brpd-trunk-or-treat/
LOCATION:Ayala Park Community Center\, 17911 Marygold Ave\, Bloomington\, CA\, 92316\, United States
CATEGORIES:Bloomington Rec and Park
END:VEVENT
END:VCALENDAR