BEGIN:VCALENDAR
VERSION:2.0
PRODID:-//Public Works - ECPv6.15.14//NONSGML v1.0//EN
CALSCALE:GREGORIAN
METHOD:PUBLISH
X-WR-CALNAME:Public Works
X-ORIGINAL-URL:https://specialdistricts.sbcounty.gov
X-WR-CALDESC:Events for Public Works
REFRESH-INTERVAL;VALUE=DURATION:PT1H
X-Robots-Tag:noindex
X-PUBLISHED-TTL:PT1H
BEGIN:VTIMEZONE
TZID:UTC
BEGIN:STANDARD
TZOFFSETFROM:+0000
TZOFFSETTO:+0000
TZNAME:UTC
DTSTART:20200101T000000
END:STANDARD
END:VTIMEZONE
BEGIN:VTIMEZONE
TZID:America/Los_Angeles
BEGIN:DAYLIGHT
TZOFFSETFROM:-0800
TZOFFSETTO:-0700
TZNAME:PDT
DTSTART:20200308T100000
END:DAYLIGHT
BEGIN:STANDARD
TZOFFSETFROM:-0700
TZOFFSETTO:-0800
TZNAME:PST
DTSTART:20201101T090000
END:STANDARD
BEGIN:DAYLIGHT
TZOFFSETFROM:-0800
TZOFFSETTO:-0700
TZNAME:PDT
DTSTART:20210314T100000
END:DAYLIGHT
BEGIN:STANDARD
TZOFFSETFROM:-0700
TZOFFSETTO:-0800
TZNAME:PST
DTSTART:20211107T090000
END:STANDARD
BEGIN:DAYLIGHT
TZOFFSETFROM:-0800
TZOFFSETTO:-0700
TZNAME:PDT
DTSTART:20220313T100000
END:DAYLIGHT
BEGIN:STANDARD
TZOFFSETFROM:-0700
TZOFFSETTO:-0800
TZNAME:PST
DTSTART:20221106T090000
END:STANDARD
END:VTIMEZONE
BEGIN:VEVENT
DTSTART;TZID=UTC:20211118T170000
DTEND;TZID=UTC:20211118T180000
DTSTAMP:20260425T034320
CREATED:20211029T223258Z
LAST-MODIFIED:20211029T223350Z
UID:10000326-1637254800-1637258400@specialdistricts.sbcounty.gov
SUMMARY:CSA 70 R-21 Community Meeting
DESCRIPTION:Community Meeting for CSA 70 R-21 residents.
URL:https://specialdistricts.sbcounty.gov/event/csa-70-r-21-community-meeting/
LOCATION:Ranch Park Club House\, 2052 Erwin Ranch Road\, Big Bear\, CA\, 92314\, United States
CATEGORIES:CSA 70R21
END:VEVENT
BEGIN:VEVENT
DTSTART;TZID=America/Los_Angeles:20211122T173000
DTEND;TZID=America/Los_Angeles:20211124T183000
DTSTAMP:20260425T034320
CREATED:20210510T004206Z
LAST-MODIFIED:20210510T071350Z
UID:10000230-1637602200-1637778600@specialdistricts.sbcounty.gov
SUMMARY:MB MAC Meeting - Joshua Tree
DESCRIPTION:
URL:https://specialdistricts.sbcounty.gov/event/mb-mac-meeting-joshua-tree/2021-11-22/
LOCATION:Joshua Tree Community Center\, 6171 Sunburst Avenue\, Joshua Tree\, CA\, 92252\, United States
CATEGORIES:County Service Area 20
END:VEVENT
END:VCALENDAR