BEGIN:VCALENDAR
VERSION:2.0
PRODID:-//Public Works - ECPv6.15.14//NONSGML v1.0//EN
CALSCALE:GREGORIAN
METHOD:PUBLISH
X-WR-CALNAME:Public Works
X-ORIGINAL-URL:https://specialdistricts.sbcounty.gov
X-WR-CALDESC:Events for Public Works
REFRESH-INTERVAL;VALUE=DURATION:PT1H
X-Robots-Tag:noindex
X-PUBLISHED-TTL:PT1H
BEGIN:VTIMEZONE
TZID:America/Los_Angeles
BEGIN:DAYLIGHT
TZOFFSETFROM:-0800
TZOFFSETTO:-0700
TZNAME:PDT
DTSTART:20250309T100000
END:DAYLIGHT
BEGIN:STANDARD
TZOFFSETFROM:-0700
TZOFFSETTO:-0800
TZNAME:PST
DTSTART:20251102T090000
END:STANDARD
BEGIN:DAYLIGHT
TZOFFSETFROM:-0800
TZOFFSETTO:-0700
TZNAME:PDT
DTSTART:20260308T100000
END:DAYLIGHT
BEGIN:STANDARD
TZOFFSETFROM:-0700
TZOFFSETTO:-0800
TZNAME:PST
DTSTART:20261101T090000
END:STANDARD
BEGIN:DAYLIGHT
TZOFFSETFROM:-0800
TZOFFSETTO:-0700
TZNAME:PDT
DTSTART:20270314T100000
END:DAYLIGHT
BEGIN:STANDARD
TZOFFSETFROM:-0700
TZOFFSETTO:-0800
TZNAME:PST
DTSTART:20271107T090000
END:STANDARD
END:VTIMEZONE
BEGIN:VEVENT
DTSTART;TZID=America/Los_Angeles:20260517T130000
DTEND;TZID=America/Los_Angeles:20260517T200000
DTSTAMP:20260419T073714
CREATED:20240906T215229Z
LAST-MODIFIED:20240906T215229Z
UID:10010540-1779022800-1779048000@specialdistricts.sbcounty.gov
SUMMARY:Sportsman's Club Bingo
DESCRIPTION:
URL:https://specialdistricts.sbcounty.gov/event/sportsmans-club-bingo/2026-05-17/
LOCATION:Joshua Tree Community Center\, 6171 Sunburst Avenue\, Joshua Tree\, CA\, 92252\, United States
CATEGORIES:County Service Area 20
END:VEVENT
BEGIN:VEVENT
DTSTART;TZID=America/Los_Angeles:20260519T130000
DTEND;TZID=America/Los_Angeles:20260519T150000
DTSTAMP:20260419T073714
CREATED:20240906T215712Z
LAST-MODIFIED:20240906T215712Z
UID:10011326-1779195600-1779202800@specialdistricts.sbcounty.gov
SUMMARY:Square/Round Dancing
DESCRIPTION:
URL:https://specialdistricts.sbcounty.gov/event/square-round-dancing/2026-05-19/
LOCATION:Joshua Tree Community Center\, 6171 Sunburst Avenue\, Joshua Tree\, CA\, 92252\, United States
CATEGORIES:County Service Area 20
END:VEVENT
BEGIN:VEVENT
DTSTART;TZID=America/Los_Angeles:20260523T110000
DTEND;TZID=America/Los_Angeles:20260523T153000
DTSTAMP:20260419T073714
CREATED:20240905T195819Z
LAST-MODIFIED:20240927T190353Z
UID:10009556-1779534000-1779550200@specialdistricts.sbcounty.gov
SUMMARY:Meditation Classes
DESCRIPTION:  \nmeditation-classes
URL:https://specialdistricts.sbcounty.gov/event/meditation-classes/2026-05-23/
LOCATION:Joshua Tree Community Center\, 6171 Sunburst Avenue\, Joshua Tree\, CA\, 92252\, United States
CATEGORIES:County Service Area 20
END:VEVENT
BEGIN:VEVENT
DTSTART;TZID=America/Los_Angeles:20260524T130000
DTEND;TZID=America/Los_Angeles:20260524T200000
DTSTAMP:20260419T073714
CREATED:20240906T215229Z
LAST-MODIFIED:20240906T215229Z
UID:10010543-1779627600-1779652800@specialdistricts.sbcounty.gov
SUMMARY:Sportsman's Club Bingo
DESCRIPTION:
URL:https://specialdistricts.sbcounty.gov/event/sportsmans-club-bingo/2026-05-24/
LOCATION:Joshua Tree Community Center\, 6171 Sunburst Avenue\, Joshua Tree\, CA\, 92252\, United States
CATEGORIES:County Service Area 20
END:VEVENT
BEGIN:VEVENT
DTSTART;TZID=America/Los_Angeles:20260526T130000
DTEND;TZID=America/Los_Angeles:20260526T150000
DTSTAMP:20260419T073714
CREATED:20240906T215712Z
LAST-MODIFIED:20240906T215712Z
UID:10011329-1779800400-1779807600@specialdistricts.sbcounty.gov
SUMMARY:Square/Round Dancing
DESCRIPTION:
URL:https://specialdistricts.sbcounty.gov/event/square-round-dancing/2026-05-26/
LOCATION:Joshua Tree Community Center\, 6171 Sunburst Avenue\, Joshua Tree\, CA\, 92252\, United States
CATEGORIES:County Service Area 20
END:VEVENT
BEGIN:VEVENT
DTSTART;TZID=America/Los_Angeles:20260530T110000
DTEND;TZID=America/Los_Angeles:20260530T153000
DTSTAMP:20260419T073714
CREATED:20240905T195819Z
LAST-MODIFIED:20240927T190353Z
UID:10009559-1780138800-1780155000@specialdistricts.sbcounty.gov
SUMMARY:Meditation Classes
DESCRIPTION:  \nmeditation-classes
URL:https://specialdistricts.sbcounty.gov/event/meditation-classes/2026-05-30/
LOCATION:Joshua Tree Community Center\, 6171 Sunburst Avenue\, Joshua Tree\, CA\, 92252\, United States
CATEGORIES:County Service Area 20
END:VEVENT
BEGIN:VEVENT
DTSTART;TZID=America/Los_Angeles:20260531T130000
DTEND;TZID=America/Los_Angeles:20260531T200000
DTSTAMP:20260419T073714
CREATED:20240906T215229Z
LAST-MODIFIED:20240906T215229Z
UID:10010546-1780232400-1780257600@specialdistricts.sbcounty.gov
SUMMARY:Sportsman's Club Bingo
DESCRIPTION:
URL:https://specialdistricts.sbcounty.gov/event/sportsmans-club-bingo/2026-05-31/
LOCATION:Joshua Tree Community Center\, 6171 Sunburst Avenue\, Joshua Tree\, CA\, 92252\, United States
CATEGORIES:County Service Area 20
END:VEVENT
BEGIN:VEVENT
DTSTART;TZID=America/Los_Angeles:20260602T130000
DTEND;TZID=America/Los_Angeles:20260602T150000
DTSTAMP:20260419T073714
CREATED:20240906T215712Z
LAST-MODIFIED:20240906T215712Z
UID:10011332-1780405200-1780412400@specialdistricts.sbcounty.gov
SUMMARY:Square/Round Dancing
DESCRIPTION:
URL:https://specialdistricts.sbcounty.gov/event/square-round-dancing/2026-06-02/
LOCATION:Joshua Tree Community Center\, 6171 Sunburst Avenue\, Joshua Tree\, CA\, 92252\, United States
CATEGORIES:County Service Area 20
END:VEVENT
BEGIN:VEVENT
DTSTART;TZID=America/Los_Angeles:20260606T110000
DTEND;TZID=America/Los_Angeles:20260606T153000
DTSTAMP:20260419T073714
CREATED:20240905T195819Z
LAST-MODIFIED:20240927T190353Z
UID:10009562-1780743600-1780759800@specialdistricts.sbcounty.gov
SUMMARY:Meditation Classes
DESCRIPTION:  \nmeditation-classes
URL:https://specialdistricts.sbcounty.gov/event/meditation-classes/2026-06-06/
LOCATION:Joshua Tree Community Center\, 6171 Sunburst Avenue\, Joshua Tree\, CA\, 92252\, United States
CATEGORIES:County Service Area 20
END:VEVENT
BEGIN:VEVENT
DTSTART;TZID=America/Los_Angeles:20260607T130000
DTEND;TZID=America/Los_Angeles:20260607T200000
DTSTAMP:20260419T073714
CREATED:20240906T215229Z
LAST-MODIFIED:20240906T215229Z
UID:10010549-1780837200-1780862400@specialdistricts.sbcounty.gov
SUMMARY:Sportsman's Club Bingo
DESCRIPTION:
URL:https://specialdistricts.sbcounty.gov/event/sportsmans-club-bingo/2026-06-07/
LOCATION:Joshua Tree Community Center\, 6171 Sunburst Avenue\, Joshua Tree\, CA\, 92252\, United States
CATEGORIES:County Service Area 20
END:VEVENT
BEGIN:VEVENT
DTSTART;TZID=America/Los_Angeles:20260609T130000
DTEND;TZID=America/Los_Angeles:20260609T150000
DTSTAMP:20260419T073714
CREATED:20240906T215712Z
LAST-MODIFIED:20240906T215712Z
UID:10011335-1781010000-1781017200@specialdistricts.sbcounty.gov
SUMMARY:Square/Round Dancing
DESCRIPTION:
URL:https://specialdistricts.sbcounty.gov/event/square-round-dancing/2026-06-09/
LOCATION:Joshua Tree Community Center\, 6171 Sunburst Avenue\, Joshua Tree\, CA\, 92252\, United States
CATEGORIES:County Service Area 20
END:VEVENT
BEGIN:VEVENT
DTSTART;TZID=America/Los_Angeles:20260613T110000
DTEND;TZID=America/Los_Angeles:20260613T153000
DTSTAMP:20260419T073714
CREATED:20240905T195819Z
LAST-MODIFIED:20240927T190353Z
UID:10009565-1781348400-1781364600@specialdistricts.sbcounty.gov
SUMMARY:Meditation Classes
DESCRIPTION:  \nmeditation-classes
URL:https://specialdistricts.sbcounty.gov/event/meditation-classes/2026-06-13/
LOCATION:Joshua Tree Community Center\, 6171 Sunburst Avenue\, Joshua Tree\, CA\, 92252\, United States
CATEGORIES:County Service Area 20
END:VEVENT
BEGIN:VEVENT
DTSTART;TZID=America/Los_Angeles:20260614T130000
DTEND;TZID=America/Los_Angeles:20260614T200000
DTSTAMP:20260419T073714
CREATED:20240906T215229Z
LAST-MODIFIED:20240906T215229Z
UID:10010552-1781442000-1781467200@specialdistricts.sbcounty.gov
SUMMARY:Sportsman's Club Bingo
DESCRIPTION:
URL:https://specialdistricts.sbcounty.gov/event/sportsmans-club-bingo/2026-06-14/
LOCATION:Joshua Tree Community Center\, 6171 Sunburst Avenue\, Joshua Tree\, CA\, 92252\, United States
CATEGORIES:County Service Area 20
END:VEVENT
BEGIN:VEVENT
DTSTART;TZID=America/Los_Angeles:20260616T130000
DTEND;TZID=America/Los_Angeles:20260616T150000
DTSTAMP:20260419T073714
CREATED:20240906T215712Z
LAST-MODIFIED:20240906T215712Z
UID:10011338-1781614800-1781622000@specialdistricts.sbcounty.gov
SUMMARY:Square/Round Dancing
DESCRIPTION:
URL:https://specialdistricts.sbcounty.gov/event/square-round-dancing/2026-06-16/
LOCATION:Joshua Tree Community Center\, 6171 Sunburst Avenue\, Joshua Tree\, CA\, 92252\, United States
CATEGORIES:County Service Area 20
END:VEVENT
BEGIN:VEVENT
DTSTART;TZID=America/Los_Angeles:20260620T110000
DTEND;TZID=America/Los_Angeles:20260620T153000
DTSTAMP:20260419T073714
CREATED:20240905T195819Z
LAST-MODIFIED:20240927T190353Z
UID:10009568-1781953200-1781969400@specialdistricts.sbcounty.gov
SUMMARY:Meditation Classes
DESCRIPTION:  \nmeditation-classes
URL:https://specialdistricts.sbcounty.gov/event/meditation-classes/2026-06-20/
LOCATION:Joshua Tree Community Center\, 6171 Sunburst Avenue\, Joshua Tree\, CA\, 92252\, United States
CATEGORIES:County Service Area 20
END:VEVENT
BEGIN:VEVENT
DTSTART;TZID=America/Los_Angeles:20260621T130000
DTEND;TZID=America/Los_Angeles:20260621T200000
DTSTAMP:20260419T073714
CREATED:20240906T215229Z
LAST-MODIFIED:20240906T215229Z
UID:10010555-1782046800-1782072000@specialdistricts.sbcounty.gov
SUMMARY:Sportsman's Club Bingo
DESCRIPTION:
URL:https://specialdistricts.sbcounty.gov/event/sportsmans-club-bingo/2026-06-21/
LOCATION:Joshua Tree Community Center\, 6171 Sunburst Avenue\, Joshua Tree\, CA\, 92252\, United States
CATEGORIES:County Service Area 20
END:VEVENT
BEGIN:VEVENT
DTSTART;TZID=America/Los_Angeles:20260623T130000
DTEND;TZID=America/Los_Angeles:20260623T150000
DTSTAMP:20260419T073714
CREATED:20240906T215712Z
LAST-MODIFIED:20240906T215712Z
UID:10011341-1782219600-1782226800@specialdistricts.sbcounty.gov
SUMMARY:Square/Round Dancing
DESCRIPTION:
URL:https://specialdistricts.sbcounty.gov/event/square-round-dancing/2026-06-23/
LOCATION:Joshua Tree Community Center\, 6171 Sunburst Avenue\, Joshua Tree\, CA\, 92252\, United States
CATEGORIES:County Service Area 20
END:VEVENT
BEGIN:VEVENT
DTSTART;TZID=America/Los_Angeles:20260627T110000
DTEND;TZID=America/Los_Angeles:20260627T153000
DTSTAMP:20260419T073714
CREATED:20240905T195819Z
LAST-MODIFIED:20240927T190353Z
UID:10009571-1782558000-1782574200@specialdistricts.sbcounty.gov
SUMMARY:Meditation Classes
DESCRIPTION:  \nmeditation-classes
URL:https://specialdistricts.sbcounty.gov/event/meditation-classes/2026-06-27/
LOCATION:Joshua Tree Community Center\, 6171 Sunburst Avenue\, Joshua Tree\, CA\, 92252\, United States
CATEGORIES:County Service Area 20
END:VEVENT
BEGIN:VEVENT
DTSTART;TZID=America/Los_Angeles:20260628T130000
DTEND;TZID=America/Los_Angeles:20260628T200000
DTSTAMP:20260419T073714
CREATED:20240906T215229Z
LAST-MODIFIED:20240906T215229Z
UID:10010558-1782651600-1782676800@specialdistricts.sbcounty.gov
SUMMARY:Sportsman's Club Bingo
DESCRIPTION:
URL:https://specialdistricts.sbcounty.gov/event/sportsmans-club-bingo/2026-06-28/
LOCATION:Joshua Tree Community Center\, 6171 Sunburst Avenue\, Joshua Tree\, CA\, 92252\, United States
CATEGORIES:County Service Area 20
END:VEVENT
BEGIN:VEVENT
DTSTART;TZID=America/Los_Angeles:20260630T130000
DTEND;TZID=America/Los_Angeles:20260630T150000
DTSTAMP:20260419T073714
CREATED:20240906T215712Z
LAST-MODIFIED:20240906T215712Z
UID:10011344-1782824400-1782831600@specialdistricts.sbcounty.gov
SUMMARY:Square/Round Dancing
DESCRIPTION:
URL:https://specialdistricts.sbcounty.gov/event/square-round-dancing/2026-06-30/
LOCATION:Joshua Tree Community Center\, 6171 Sunburst Avenue\, Joshua Tree\, CA\, 92252\, United States
CATEGORIES:County Service Area 20
END:VEVENT
BEGIN:VEVENT
DTSTART;TZID=America/Los_Angeles:20260704T110000
DTEND;TZID=America/Los_Angeles:20260704T153000
DTSTAMP:20260419T073714
CREATED:20240905T195819Z
LAST-MODIFIED:20240927T190353Z
UID:10009574-1783162800-1783179000@specialdistricts.sbcounty.gov
SUMMARY:Meditation Classes
DESCRIPTION:  \nmeditation-classes
URL:https://specialdistricts.sbcounty.gov/event/meditation-classes/2026-07-04/
LOCATION:Joshua Tree Community Center\, 6171 Sunburst Avenue\, Joshua Tree\, CA\, 92252\, United States
CATEGORIES:County Service Area 20
END:VEVENT
BEGIN:VEVENT
DTSTART;TZID=America/Los_Angeles:20260705T130000
DTEND;TZID=America/Los_Angeles:20260705T200000
DTSTAMP:20260419T073714
CREATED:20240906T215229Z
LAST-MODIFIED:20240906T215229Z
UID:10010561-1783256400-1783281600@specialdistricts.sbcounty.gov
SUMMARY:Sportsman's Club Bingo
DESCRIPTION:
URL:https://specialdistricts.sbcounty.gov/event/sportsmans-club-bingo/2026-07-05/
LOCATION:Joshua Tree Community Center\, 6171 Sunburst Avenue\, Joshua Tree\, CA\, 92252\, United States
CATEGORIES:County Service Area 20
END:VEVENT
BEGIN:VEVENT
DTSTART;TZID=America/Los_Angeles:20260707T130000
DTEND;TZID=America/Los_Angeles:20260707T150000
DTSTAMP:20260419T073714
CREATED:20240906T215712Z
LAST-MODIFIED:20240906T215712Z
UID:10011347-1783429200-1783436400@specialdistricts.sbcounty.gov
SUMMARY:Square/Round Dancing
DESCRIPTION:
URL:https://specialdistricts.sbcounty.gov/event/square-round-dancing/2026-07-07/
LOCATION:Joshua Tree Community Center\, 6171 Sunburst Avenue\, Joshua Tree\, CA\, 92252\, United States
CATEGORIES:County Service Area 20
END:VEVENT
BEGIN:VEVENT
DTSTART;TZID=America/Los_Angeles:20260711T110000
DTEND;TZID=America/Los_Angeles:20260711T153000
DTSTAMP:20260419T073714
CREATED:20240905T195819Z
LAST-MODIFIED:20240927T190353Z
UID:10009577-1783767600-1783783800@specialdistricts.sbcounty.gov
SUMMARY:Meditation Classes
DESCRIPTION:  \nmeditation-classes
URL:https://specialdistricts.sbcounty.gov/event/meditation-classes/2026-07-11/
LOCATION:Joshua Tree Community Center\, 6171 Sunburst Avenue\, Joshua Tree\, CA\, 92252\, United States
CATEGORIES:County Service Area 20
END:VEVENT
BEGIN:VEVENT
DTSTART;TZID=America/Los_Angeles:20260712T130000
DTEND;TZID=America/Los_Angeles:20260712T200000
DTSTAMP:20260419T073714
CREATED:20240906T215229Z
LAST-MODIFIED:20240906T215229Z
UID:10010564-1783861200-1783886400@specialdistricts.sbcounty.gov
SUMMARY:Sportsman's Club Bingo
DESCRIPTION:
URL:https://specialdistricts.sbcounty.gov/event/sportsmans-club-bingo/2026-07-12/
LOCATION:Joshua Tree Community Center\, 6171 Sunburst Avenue\, Joshua Tree\, CA\, 92252\, United States
CATEGORIES:County Service Area 20
END:VEVENT
BEGIN:VEVENT
DTSTART;TZID=America/Los_Angeles:20260714T130000
DTEND;TZID=America/Los_Angeles:20260714T150000
DTSTAMP:20260419T073714
CREATED:20240906T215712Z
LAST-MODIFIED:20240906T215712Z
UID:10011350-1784034000-1784041200@specialdistricts.sbcounty.gov
SUMMARY:Square/Round Dancing
DESCRIPTION:
URL:https://specialdistricts.sbcounty.gov/event/square-round-dancing/2026-07-14/
LOCATION:Joshua Tree Community Center\, 6171 Sunburst Avenue\, Joshua Tree\, CA\, 92252\, United States
CATEGORIES:County Service Area 20
END:VEVENT
BEGIN:VEVENT
DTSTART;TZID=America/Los_Angeles:20260718T110000
DTEND;TZID=America/Los_Angeles:20260718T153000
DTSTAMP:20260419T073714
CREATED:20240905T195819Z
LAST-MODIFIED:20240927T190353Z
UID:10009580-1784372400-1784388600@specialdistricts.sbcounty.gov
SUMMARY:Meditation Classes
DESCRIPTION:  \nmeditation-classes
URL:https://specialdistricts.sbcounty.gov/event/meditation-classes/2026-07-18/
LOCATION:Joshua Tree Community Center\, 6171 Sunburst Avenue\, Joshua Tree\, CA\, 92252\, United States
CATEGORIES:County Service Area 20
END:VEVENT
BEGIN:VEVENT
DTSTART;TZID=America/Los_Angeles:20260719T130000
DTEND;TZID=America/Los_Angeles:20260719T200000
DTSTAMP:20260419T073714
CREATED:20240906T215229Z
LAST-MODIFIED:20240906T215229Z
UID:10010567-1784466000-1784491200@specialdistricts.sbcounty.gov
SUMMARY:Sportsman's Club Bingo
DESCRIPTION:
URL:https://specialdistricts.sbcounty.gov/event/sportsmans-club-bingo/2026-07-19/
LOCATION:Joshua Tree Community Center\, 6171 Sunburst Avenue\, Joshua Tree\, CA\, 92252\, United States
CATEGORIES:County Service Area 20
END:VEVENT
BEGIN:VEVENT
DTSTART;TZID=America/Los_Angeles:20260721T130000
DTEND;TZID=America/Los_Angeles:20260721T150000
DTSTAMP:20260419T073714
CREATED:20240906T215712Z
LAST-MODIFIED:20240906T215712Z
UID:10011353-1784638800-1784646000@specialdistricts.sbcounty.gov
SUMMARY:Square/Round Dancing
DESCRIPTION:
URL:https://specialdistricts.sbcounty.gov/event/square-round-dancing/2026-07-21/
LOCATION:Joshua Tree Community Center\, 6171 Sunburst Avenue\, Joshua Tree\, CA\, 92252\, United States
CATEGORIES:County Service Area 20
END:VEVENT
BEGIN:VEVENT
DTSTART;TZID=America/Los_Angeles:20260725T110000
DTEND;TZID=America/Los_Angeles:20260725T153000
DTSTAMP:20260419T073714
CREATED:20240905T195819Z
LAST-MODIFIED:20240927T190353Z
UID:10009583-1784977200-1784993400@specialdistricts.sbcounty.gov
SUMMARY:Meditation Classes
DESCRIPTION:  \nmeditation-classes
URL:https://specialdistricts.sbcounty.gov/event/meditation-classes/2026-07-25/
LOCATION:Joshua Tree Community Center\, 6171 Sunburst Avenue\, Joshua Tree\, CA\, 92252\, United States
CATEGORIES:County Service Area 20
END:VEVENT
END:VCALENDAR