BEGIN:VCALENDAR
VERSION:2.0
PRODID:-//Public Works - ECPv6.15.14//NONSGML v1.0//EN
CALSCALE:GREGORIAN
METHOD:PUBLISH
X-ORIGINAL-URL:https://specialdistricts.sbcounty.gov
X-WR-CALDESC:Events for Public Works
REFRESH-INTERVAL;VALUE=DURATION:PT1H
X-Robots-Tag:noindex
X-PUBLISHED-TTL:PT1H
BEGIN:VTIMEZONE
TZID:America/Los_Angeles
BEGIN:DAYLIGHT
TZOFFSETFROM:-0800
TZOFFSETTO:-0700
TZNAME:PDT
DTSTART:20200308T100000
END:DAYLIGHT
BEGIN:STANDARD
TZOFFSETFROM:-0700
TZOFFSETTO:-0800
TZNAME:PST
DTSTART:20201101T090000
END:STANDARD
BEGIN:DAYLIGHT
TZOFFSETFROM:-0800
TZOFFSETTO:-0700
TZNAME:PDT
DTSTART:20210314T100000
END:DAYLIGHT
BEGIN:STANDARD
TZOFFSETFROM:-0700
TZOFFSETTO:-0800
TZNAME:PST
DTSTART:20211107T090000
END:STANDARD
BEGIN:DAYLIGHT
TZOFFSETFROM:-0800
TZOFFSETTO:-0700
TZNAME:PDT
DTSTART:20220313T100000
END:DAYLIGHT
BEGIN:STANDARD
TZOFFSETFROM:-0700
TZOFFSETTO:-0800
TZNAME:PST
DTSTART:20221106T090000
END:STANDARD
BEGIN:DAYLIGHT
TZOFFSETFROM:-0800
TZOFFSETTO:-0700
TZNAME:PDT
DTSTART:20230312T100000
END:DAYLIGHT
BEGIN:STANDARD
TZOFFSETFROM:-0700
TZOFFSETTO:-0800
TZNAME:PST
DTSTART:20231105T090000
END:STANDARD
BEGIN:DAYLIGHT
TZOFFSETFROM:-0800
TZOFFSETTO:-0700
TZNAME:PDT
DTSTART:20240310T100000
END:DAYLIGHT
BEGIN:STANDARD
TZOFFSETFROM:-0700
TZOFFSETTO:-0800
TZNAME:PST
DTSTART:20241103T090000
END:STANDARD
END:VTIMEZONE
BEGIN:VEVENT
DTSTART;TZID=America/Los_Angeles:20231023T173000
DTEND;TZID=America/Los_Angeles:20231025T183000
DTSTAMP:20260425T115816
CREATED:20210510T004206Z
LAST-MODIFIED:20210510T071350Z
UID:10000305-1698082200-1698258600@specialdistricts.sbcounty.gov
SUMMARY:MB MAC Meeting - Joshua Tree
DESCRIPTION:
URL:https://specialdistricts.sbcounty.gov/event/mb-mac-meeting-joshua-tree/2023-10-23/
LOCATION:Joshua Tree Community Center\, 6171 Sunburst Avenue\, Joshua Tree\, CA\, 92252\, United States
CATEGORIES:County Service Area 20
END:VEVENT
BEGIN:VEVENT
DTSTART;TZID=America/Los_Angeles:20230925T173000
DTEND;TZID=America/Los_Angeles:20230927T183000
DTSTAMP:20260425T115816
CREATED:20210510T004206Z
LAST-MODIFIED:20210510T071350Z
UID:10000302-1695663000-1695839400@specialdistricts.sbcounty.gov
SUMMARY:MB MAC Meeting - Joshua Tree
DESCRIPTION:
URL:https://specialdistricts.sbcounty.gov/event/mb-mac-meeting-joshua-tree/2023-09-25/
LOCATION:Joshua Tree Community Center\, 6171 Sunburst Avenue\, Joshua Tree\, CA\, 92252\, United States
CATEGORIES:County Service Area 20
END:VEVENT
BEGIN:VEVENT
DTSTART;TZID=America/Los_Angeles:20230828T173000
DTEND;TZID=America/Los_Angeles:20230830T183000
DTSTAMP:20260425T115816
CREATED:20210510T004206Z
LAST-MODIFIED:20210510T071350Z
UID:10000299-1693243800-1693420200@specialdistricts.sbcounty.gov
SUMMARY:MB MAC Meeting - Joshua Tree
DESCRIPTION:
URL:https://specialdistricts.sbcounty.gov/event/mb-mac-meeting-joshua-tree/2023-08-28/
LOCATION:Joshua Tree Community Center\, 6171 Sunburst Avenue\, Joshua Tree\, CA\, 92252\, United States
CATEGORIES:County Service Area 20
END:VEVENT
BEGIN:VEVENT
DTSTART;TZID=America/Los_Angeles:20230731T173000
DTEND;TZID=America/Los_Angeles:20230802T183000
DTSTAMP:20260425T115816
CREATED:20210510T004206Z
LAST-MODIFIED:20210510T071350Z
UID:10000296-1690824600-1691001000@specialdistricts.sbcounty.gov
SUMMARY:MB MAC Meeting - Joshua Tree
DESCRIPTION:
URL:https://specialdistricts.sbcounty.gov/event/mb-mac-meeting-joshua-tree/2023-07-31/
LOCATION:Joshua Tree Community Center\, 6171 Sunburst Avenue\, Joshua Tree\, CA\, 92252\, United States
CATEGORIES:County Service Area 20
END:VEVENT
BEGIN:VEVENT
DTSTART;TZID=America/Los_Angeles:20230703T173000
DTEND;TZID=America/Los_Angeles:20230705T183000
DTSTAMP:20260425T115816
CREATED:20210510T004206Z
LAST-MODIFIED:20210510T071350Z
UID:10000293-1688405400-1688581800@specialdistricts.sbcounty.gov
SUMMARY:MB MAC Meeting - Joshua Tree
DESCRIPTION:
URL:https://specialdistricts.sbcounty.gov/event/mb-mac-meeting-joshua-tree/2023-07-03/
LOCATION:Joshua Tree Community Center\, 6171 Sunburst Avenue\, Joshua Tree\, CA\, 92252\, United States
CATEGORIES:County Service Area 20
END:VEVENT
BEGIN:VEVENT
DTSTART;TZID=America/Los_Angeles:20230605T173000
DTEND;TZID=America/Los_Angeles:20230607T183000
DTSTAMP:20260425T115816
CREATED:20210510T004206Z
LAST-MODIFIED:20210510T071350Z
UID:10000290-1685986200-1686162600@specialdistricts.sbcounty.gov
SUMMARY:MB MAC Meeting - Joshua Tree
DESCRIPTION:
URL:https://specialdistricts.sbcounty.gov/event/mb-mac-meeting-joshua-tree/2023-06-05/
LOCATION:Joshua Tree Community Center\, 6171 Sunburst Avenue\, Joshua Tree\, CA\, 92252\, United States
CATEGORIES:County Service Area 20
END:VEVENT
BEGIN:VEVENT
DTSTART;TZID=America/Los_Angeles:20230508T173000
DTEND;TZID=America/Los_Angeles:20230510T183000
DTSTAMP:20260425T115816
CREATED:20210510T004206Z
LAST-MODIFIED:20210510T071350Z
UID:10000287-1683567000-1683743400@specialdistricts.sbcounty.gov
SUMMARY:MB MAC Meeting - Joshua Tree
DESCRIPTION:
URL:https://specialdistricts.sbcounty.gov/event/mb-mac-meeting-joshua-tree/2023-05-08/
LOCATION:Joshua Tree Community Center\, 6171 Sunburst Avenue\, Joshua Tree\, CA\, 92252\, United States
CATEGORIES:County Service Area 20
END:VEVENT
BEGIN:VEVENT
DTSTART;TZID=America/Los_Angeles:20230410T173000
DTEND;TZID=America/Los_Angeles:20230412T183000
DTSTAMP:20260425T115816
CREATED:20210510T004206Z
LAST-MODIFIED:20210510T071350Z
UID:10000284-1681147800-1681324200@specialdistricts.sbcounty.gov
SUMMARY:MB MAC Meeting - Joshua Tree
DESCRIPTION:
URL:https://specialdistricts.sbcounty.gov/event/mb-mac-meeting-joshua-tree/2023-04-10/
LOCATION:Joshua Tree Community Center\, 6171 Sunburst Avenue\, Joshua Tree\, CA\, 92252\, United States
CATEGORIES:County Service Area 20
END:VEVENT
BEGIN:VEVENT
DTSTART;TZID=America/Los_Angeles:20230313T173000
DTEND;TZID=America/Los_Angeles:20230315T183000
DTSTAMP:20260425T115816
CREATED:20210510T004206Z
LAST-MODIFIED:20210510T071350Z
UID:10000281-1678728600-1678905000@specialdistricts.sbcounty.gov
SUMMARY:MB MAC Meeting - Joshua Tree
DESCRIPTION:
URL:https://specialdistricts.sbcounty.gov/event/mb-mac-meeting-joshua-tree/2023-03-13/
LOCATION:Joshua Tree Community Center\, 6171 Sunburst Avenue\, Joshua Tree\, CA\, 92252\, United States
CATEGORIES:County Service Area 20
END:VEVENT
BEGIN:VEVENT
DTSTART;TZID=America/Los_Angeles:20230213T173000
DTEND;TZID=America/Los_Angeles:20230215T183000
DTSTAMP:20260425T115816
CREATED:20210510T004206Z
LAST-MODIFIED:20210510T071350Z
UID:10000278-1676309400-1676485800@specialdistricts.sbcounty.gov
SUMMARY:MB MAC Meeting - Joshua Tree
DESCRIPTION:
URL:https://specialdistricts.sbcounty.gov/event/mb-mac-meeting-joshua-tree/2023-02-13/
LOCATION:Joshua Tree Community Center\, 6171 Sunburst Avenue\, Joshua Tree\, CA\, 92252\, United States
CATEGORIES:County Service Area 20
END:VEVENT
BEGIN:VEVENT
DTSTART;TZID=America/Los_Angeles:20230116T173000
DTEND;TZID=America/Los_Angeles:20230118T183000
DTSTAMP:20260425T115816
CREATED:20210510T004206Z
LAST-MODIFIED:20210510T071350Z
UID:10000275-1673890200-1674066600@specialdistricts.sbcounty.gov
SUMMARY:MB MAC Meeting - Joshua Tree
DESCRIPTION:
URL:https://specialdistricts.sbcounty.gov/event/mb-mac-meeting-joshua-tree/2023-01-16/
LOCATION:Joshua Tree Community Center\, 6171 Sunburst Avenue\, Joshua Tree\, CA\, 92252\, United States
CATEGORIES:County Service Area 20
END:VEVENT
BEGIN:VEVENT
DTSTART;TZID=America/Los_Angeles:20221219T173000
DTEND;TZID=America/Los_Angeles:20221221T183000
DTSTAMP:20260425T115816
CREATED:20210510T004206Z
LAST-MODIFIED:20210510T071350Z
UID:10000272-1671471000-1671647400@specialdistricts.sbcounty.gov
SUMMARY:MB MAC Meeting - Joshua Tree
DESCRIPTION:
URL:https://specialdistricts.sbcounty.gov/event/mb-mac-meeting-joshua-tree/2022-12-19/
LOCATION:Joshua Tree Community Center\, 6171 Sunburst Avenue\, Joshua Tree\, CA\, 92252\, United States
CATEGORIES:County Service Area 20
END:VEVENT
BEGIN:VEVENT
DTSTART;TZID=America/Los_Angeles:20221121T173000
DTEND;TZID=America/Los_Angeles:20221123T183000
DTSTAMP:20260425T115816
CREATED:20210510T004206Z
LAST-MODIFIED:20210510T071350Z
UID:10000269-1669051800-1669228200@specialdistricts.sbcounty.gov
SUMMARY:MB MAC Meeting - Joshua Tree
DESCRIPTION:
URL:https://specialdistricts.sbcounty.gov/event/mb-mac-meeting-joshua-tree/2022-11-21/
LOCATION:Joshua Tree Community Center\, 6171 Sunburst Avenue\, Joshua Tree\, CA\, 92252\, United States
CATEGORIES:County Service Area 20
END:VEVENT
BEGIN:VEVENT
DTSTART;TZID=America/Los_Angeles:20221024T173000
DTEND;TZID=America/Los_Angeles:20221026T183000
DTSTAMP:20260425T115816
CREATED:20210510T004206Z
LAST-MODIFIED:20210510T071350Z
UID:10000266-1666632600-1666809000@specialdistricts.sbcounty.gov
SUMMARY:MB MAC Meeting - Joshua Tree
DESCRIPTION:
URL:https://specialdistricts.sbcounty.gov/event/mb-mac-meeting-joshua-tree/2022-10-24/
LOCATION:Joshua Tree Community Center\, 6171 Sunburst Avenue\, Joshua Tree\, CA\, 92252\, United States
CATEGORIES:County Service Area 20
END:VEVENT
BEGIN:VEVENT
DTSTART;TZID=America/Los_Angeles:20220926T173000
DTEND;TZID=America/Los_Angeles:20220928T183000
DTSTAMP:20260425T115816
CREATED:20210510T004206Z
LAST-MODIFIED:20210510T071350Z
UID:10000263-1664213400-1664389800@specialdistricts.sbcounty.gov
SUMMARY:MB MAC Meeting - Joshua Tree
DESCRIPTION:
URL:https://specialdistricts.sbcounty.gov/event/mb-mac-meeting-joshua-tree/2022-09-26/
LOCATION:Joshua Tree Community Center\, 6171 Sunburst Avenue\, Joshua Tree\, CA\, 92252\, United States
CATEGORIES:County Service Area 20
END:VEVENT
BEGIN:VEVENT
DTSTART;TZID=America/Los_Angeles:20220829T173000
DTEND;TZID=America/Los_Angeles:20220831T183000
DTSTAMP:20260425T115816
CREATED:20210510T004206Z
LAST-MODIFIED:20210510T071350Z
UID:10000260-1661794200-1661970600@specialdistricts.sbcounty.gov
SUMMARY:MB MAC Meeting - Joshua Tree
DESCRIPTION:
URL:https://specialdistricts.sbcounty.gov/event/mb-mac-meeting-joshua-tree/2022-08-29/
LOCATION:Joshua Tree Community Center\, 6171 Sunburst Avenue\, Joshua Tree\, CA\, 92252\, United States
CATEGORIES:County Service Area 20
END:VEVENT
BEGIN:VEVENT
DTSTART;TZID=America/Los_Angeles:20220801T173000
DTEND;TZID=America/Los_Angeles:20220803T183000
DTSTAMP:20260425T115816
CREATED:20210510T004206Z
LAST-MODIFIED:20210510T071350Z
UID:10000257-1659375000-1659551400@specialdistricts.sbcounty.gov
SUMMARY:MB MAC Meeting - Joshua Tree
DESCRIPTION:
URL:https://specialdistricts.sbcounty.gov/event/mb-mac-meeting-joshua-tree/2022-08-01/
LOCATION:Joshua Tree Community Center\, 6171 Sunburst Avenue\, Joshua Tree\, CA\, 92252\, United States
CATEGORIES:County Service Area 20
END:VEVENT
BEGIN:VEVENT
DTSTART;TZID=America/Los_Angeles:20220704T173000
DTEND;TZID=America/Los_Angeles:20220706T183000
DTSTAMP:20260425T115816
CREATED:20210510T004206Z
LAST-MODIFIED:20210510T071350Z
UID:10000254-1656955800-1657132200@specialdistricts.sbcounty.gov
SUMMARY:MB MAC Meeting - Joshua Tree
DESCRIPTION:
URL:https://specialdistricts.sbcounty.gov/event/mb-mac-meeting-joshua-tree/2022-07-04/
LOCATION:Joshua Tree Community Center\, 6171 Sunburst Avenue\, Joshua Tree\, CA\, 92252\, United States
CATEGORIES:County Service Area 20
END:VEVENT
BEGIN:VEVENT
DTSTART;TZID=America/Los_Angeles:20220606T173000
DTEND;TZID=America/Los_Angeles:20220608T183000
DTSTAMP:20260425T115816
CREATED:20210510T004206Z
LAST-MODIFIED:20210510T071350Z
UID:10000251-1654536600-1654713000@specialdistricts.sbcounty.gov
SUMMARY:MB MAC Meeting - Joshua Tree
DESCRIPTION:
URL:https://specialdistricts.sbcounty.gov/event/mb-mac-meeting-joshua-tree/2022-06-06/
LOCATION:Joshua Tree Community Center\, 6171 Sunburst Avenue\, Joshua Tree\, CA\, 92252\, United States
CATEGORIES:County Service Area 20
END:VEVENT
BEGIN:VEVENT
DTSTART;TZID=America/Los_Angeles:20220509T173000
DTEND;TZID=America/Los_Angeles:20220511T183000
DTSTAMP:20260425T115816
CREATED:20210510T004206Z
LAST-MODIFIED:20210510T071350Z
UID:10000248-1652117400-1652293800@specialdistricts.sbcounty.gov
SUMMARY:MB MAC Meeting - Joshua Tree
DESCRIPTION:
URL:https://specialdistricts.sbcounty.gov/event/mb-mac-meeting-joshua-tree/2022-05-09/
LOCATION:Joshua Tree Community Center\, 6171 Sunburst Avenue\, Joshua Tree\, CA\, 92252\, United States
CATEGORIES:County Service Area 20
END:VEVENT
BEGIN:VEVENT
DTSTART;TZID=America/Los_Angeles:20220411T173000
DTEND;TZID=America/Los_Angeles:20220413T183000
DTSTAMP:20260425T115816
CREATED:20210510T004206Z
LAST-MODIFIED:20210510T071350Z
UID:10000245-1649698200-1649874600@specialdistricts.sbcounty.gov
SUMMARY:MB MAC Meeting - Joshua Tree
DESCRIPTION:
URL:https://specialdistricts.sbcounty.gov/event/mb-mac-meeting-joshua-tree/2022-04-11/
LOCATION:Joshua Tree Community Center\, 6171 Sunburst Avenue\, Joshua Tree\, CA\, 92252\, United States
CATEGORIES:County Service Area 20
END:VEVENT
BEGIN:VEVENT
DTSTART;TZID=America/Los_Angeles:20220314T173000
DTEND;TZID=America/Los_Angeles:20220316T183000
DTSTAMP:20260425T115816
CREATED:20210510T004206Z
LAST-MODIFIED:20210510T071350Z
UID:10000242-1647279000-1647455400@specialdistricts.sbcounty.gov
SUMMARY:MB MAC Meeting - Joshua Tree
DESCRIPTION:
URL:https://specialdistricts.sbcounty.gov/event/mb-mac-meeting-joshua-tree/2022-03-14/
LOCATION:Joshua Tree Community Center\, 6171 Sunburst Avenue\, Joshua Tree\, CA\, 92252\, United States
CATEGORIES:County Service Area 20
END:VEVENT
BEGIN:VEVENT
DTSTART;TZID=America/Los_Angeles:20220214T173000
DTEND;TZID=America/Los_Angeles:20220216T183000
DTSTAMP:20260425T115816
CREATED:20210510T004206Z
LAST-MODIFIED:20210510T071350Z
UID:10000239-1644859800-1645036200@specialdistricts.sbcounty.gov
SUMMARY:MB MAC Meeting - Joshua Tree
DESCRIPTION:
URL:https://specialdistricts.sbcounty.gov/event/mb-mac-meeting-joshua-tree/2022-02-14/
LOCATION:Joshua Tree Community Center\, 6171 Sunburst Avenue\, Joshua Tree\, CA\, 92252\, United States
CATEGORIES:County Service Area 20
END:VEVENT
BEGIN:VEVENT
DTSTART;TZID=America/Los_Angeles:20220117T173000
DTEND;TZID=America/Los_Angeles:20220119T183000
DTSTAMP:20260425T115816
CREATED:20210510T004206Z
LAST-MODIFIED:20210510T071350Z
UID:10000236-1642440600-1642617000@specialdistricts.sbcounty.gov
SUMMARY:MB MAC Meeting - Joshua Tree
DESCRIPTION:
URL:https://specialdistricts.sbcounty.gov/event/mb-mac-meeting-joshua-tree/2022-01-17/
LOCATION:Joshua Tree Community Center\, 6171 Sunburst Avenue\, Joshua Tree\, CA\, 92252\, United States
CATEGORIES:County Service Area 20
END:VEVENT
BEGIN:VEVENT
DTSTART;TZID=America/Los_Angeles:20211220T173000
DTEND;TZID=America/Los_Angeles:20211222T183000
DTSTAMP:20260425T115816
CREATED:20210510T004206Z
LAST-MODIFIED:20210510T071350Z
UID:10000233-1640021400-1640197800@specialdistricts.sbcounty.gov
SUMMARY:MB MAC Meeting - Joshua Tree
DESCRIPTION:
URL:https://specialdistricts.sbcounty.gov/event/mb-mac-meeting-joshua-tree/2021-12-20/
LOCATION:Joshua Tree Community Center\, 6171 Sunburst Avenue\, Joshua Tree\, CA\, 92252\, United States
CATEGORIES:County Service Area 20
END:VEVENT
BEGIN:VEVENT
DTSTART;TZID=America/Los_Angeles:20211122T173000
DTEND;TZID=America/Los_Angeles:20211124T183000
DTSTAMP:20260425T115816
CREATED:20210510T004206Z
LAST-MODIFIED:20210510T071350Z
UID:10000230-1637602200-1637778600@specialdistricts.sbcounty.gov
SUMMARY:MB MAC Meeting - Joshua Tree
DESCRIPTION:
URL:https://specialdistricts.sbcounty.gov/event/mb-mac-meeting-joshua-tree/2021-11-22/
LOCATION:Joshua Tree Community Center\, 6171 Sunburst Avenue\, Joshua Tree\, CA\, 92252\, United States
CATEGORIES:County Service Area 20
END:VEVENT
BEGIN:VEVENT
DTSTART;TZID=America/Los_Angeles:20211025T173000
DTEND;TZID=America/Los_Angeles:20211027T183000
DTSTAMP:20260425T115816
CREATED:20210510T004206Z
LAST-MODIFIED:20210510T071350Z
UID:10000227-1635183000-1635359400@specialdistricts.sbcounty.gov
SUMMARY:MB MAC Meeting - Joshua Tree
DESCRIPTION:
URL:https://specialdistricts.sbcounty.gov/event/mb-mac-meeting-joshua-tree/2021-10-25/
LOCATION:Joshua Tree Community Center\, 6171 Sunburst Avenue\, Joshua Tree\, CA\, 92252\, United States
CATEGORIES:County Service Area 20
END:VEVENT
BEGIN:VEVENT
DTSTART;TZID=America/Los_Angeles:20210927T173000
DTEND;TZID=America/Los_Angeles:20210929T183000
DTSTAMP:20260425T115816
CREATED:20210510T004206Z
LAST-MODIFIED:20210510T071350Z
UID:10000224-1632763800-1632940200@specialdistricts.sbcounty.gov
SUMMARY:MB MAC Meeting - Joshua Tree
DESCRIPTION:
URL:https://specialdistricts.sbcounty.gov/event/mb-mac-meeting-joshua-tree/2021-09-27/
LOCATION:Joshua Tree Community Center\, 6171 Sunburst Avenue\, Joshua Tree\, CA\, 92252\, United States
CATEGORIES:County Service Area 20
END:VEVENT
BEGIN:VEVENT
DTSTART;TZID=America/Los_Angeles:20210830T173000
DTEND;TZID=America/Los_Angeles:20210901T183000
DTSTAMP:20260425T115816
CREATED:20210510T004206Z
LAST-MODIFIED:20210510T071350Z
UID:10000221-1630344600-1630521000@specialdistricts.sbcounty.gov
SUMMARY:MB MAC Meeting - Joshua Tree
DESCRIPTION:
URL:https://specialdistricts.sbcounty.gov/event/mb-mac-meeting-joshua-tree/2021-08-30/
LOCATION:Joshua Tree Community Center\, 6171 Sunburst Avenue\, Joshua Tree\, CA\, 92252\, United States
CATEGORIES:County Service Area 20
END:VEVENT
BEGIN:VEVENT
DTSTART;TZID=America/Los_Angeles:20210802T173000
DTEND;TZID=America/Los_Angeles:20210804T183000
DTSTAMP:20260425T115816
CREATED:20210510T004206Z
LAST-MODIFIED:20210510T071350Z
UID:10000218-1627925400-1628101800@specialdistricts.sbcounty.gov
SUMMARY:MB MAC Meeting - Joshua Tree
DESCRIPTION:
URL:https://specialdistricts.sbcounty.gov/event/mb-mac-meeting-joshua-tree/2021-08-02/
LOCATION:Joshua Tree Community Center\, 6171 Sunburst Avenue\, Joshua Tree\, CA\, 92252\, United States
CATEGORIES:County Service Area 20
END:VEVENT
END:VCALENDAR