BEGIN:VCALENDAR
VERSION:2.0
PRODID:-//Public Works - ECPv6.15.14//NONSGML v1.0//EN
CALSCALE:GREGORIAN
METHOD:PUBLISH
X-ORIGINAL-URL:https://specialdistricts.sbcounty.gov
X-WR-CALDESC:Events for Public Works
REFRESH-INTERVAL;VALUE=DURATION:PT1H
X-Robots-Tag:noindex
X-PUBLISHED-TTL:PT1H
BEGIN:VTIMEZONE
TZID:America/Los_Angeles
BEGIN:DAYLIGHT
TZOFFSETFROM:-0800
TZOFFSETTO:-0700
TZNAME:PDT
DTSTART:20230312T100000
END:DAYLIGHT
BEGIN:STANDARD
TZOFFSETFROM:-0700
TZOFFSETTO:-0800
TZNAME:PST
DTSTART:20231105T090000
END:STANDARD
BEGIN:DAYLIGHT
TZOFFSETFROM:-0800
TZOFFSETTO:-0700
TZNAME:PDT
DTSTART:20240310T100000
END:DAYLIGHT
BEGIN:STANDARD
TZOFFSETFROM:-0700
TZOFFSETTO:-0800
TZNAME:PST
DTSTART:20241103T090000
END:STANDARD
BEGIN:DAYLIGHT
TZOFFSETFROM:-0800
TZOFFSETTO:-0700
TZNAME:PDT
DTSTART:20250309T100000
END:DAYLIGHT
BEGIN:STANDARD
TZOFFSETFROM:-0700
TZOFFSETTO:-0800
TZNAME:PST
DTSTART:20251102T090000
END:STANDARD
END:VTIMEZONE
BEGIN:VTIMEZONE
TZID:America/Denver
BEGIN:DAYLIGHT
TZOFFSETFROM:-0700
TZOFFSETTO:-0600
TZNAME:MDT
DTSTART:20220313T090000
END:DAYLIGHT
BEGIN:STANDARD
TZOFFSETFROM:-0600
TZOFFSETTO:-0700
TZNAME:MST
DTSTART:20221106T080000
END:STANDARD
BEGIN:DAYLIGHT
TZOFFSETFROM:-0700
TZOFFSETTO:-0600
TZNAME:MDT
DTSTART:20230312T090000
END:DAYLIGHT
BEGIN:STANDARD
TZOFFSETFROM:-0600
TZOFFSETTO:-0700
TZNAME:MST
DTSTART:20231105T080000
END:STANDARD
BEGIN:DAYLIGHT
TZOFFSETFROM:-0700
TZOFFSETTO:-0600
TZNAME:MDT
DTSTART:20240310T090000
END:DAYLIGHT
BEGIN:STANDARD
TZOFFSETFROM:-0600
TZOFFSETTO:-0700
TZNAME:MST
DTSTART:20241103T080000
END:STANDARD
END:VTIMEZONE
BEGIN:VEVENT
DTSTART;TZID=America/Los_Angeles:20240904T180000
DTEND;TZID=America/Los_Angeles:20240904T200000
DTSTAMP:20260422T202736
CREATED:20240628T161418Z
LAST-MODIFIED:20240628T161454Z
UID:10006655-1725472800-1725480000@specialdistricts.sbcounty.gov
SUMMARY:Youth Flag Football 2024
DESCRIPTION:Flag Football Flyer 24This is a recreation youth sports program. \nLeague is open to all Boys & Girls ages 7 – 14. All Games are played at Kessler Park 18401 Jurupa Ave\, Bloomington CA 92136. \nGames are Monday and Wednesday. \nRegistration fee is $75.00. \nEach child will play 10 games and receive a full uniform. (Jersey\, Shorts and Socks) \nRegistration is OPEN NOW! Last day to register is Friday July 19th. \nTo register please visit us at Catalog – Special Districts Recreation and Park Districts
URL:https://specialdistricts.sbcounty.gov/event/youth-flag-football-2024/2024-09-04/
LOCATION:Kessler Park\, 18401 Jurupa Ave 92316\, Bloomington\, CA\, 92316
CATEGORIES:Bloomington Rec and Park
END:VEVENT
BEGIN:VEVENT
DTSTART;TZID=America/Los_Angeles:20240902T180000
DTEND;TZID=America/Los_Angeles:20240902T200000
DTSTAMP:20260422T202736
CREATED:20240628T161418Z
LAST-MODIFIED:20240628T161454Z
UID:10006652-1725300000-1725307200@specialdistricts.sbcounty.gov
SUMMARY:Youth Flag Football 2024
DESCRIPTION:Flag Football Flyer 24This is a recreation youth sports program. \nLeague is open to all Boys & Girls ages 7 – 14. All Games are played at Kessler Park 18401 Jurupa Ave\, Bloomington CA 92136. \nGames are Monday and Wednesday. \nRegistration fee is $75.00. \nEach child will play 10 games and receive a full uniform. (Jersey\, Shorts and Socks) \nRegistration is OPEN NOW! Last day to register is Friday July 19th. \nTo register please visit us at Catalog – Special Districts Recreation and Park Districts
URL:https://specialdistricts.sbcounty.gov/event/youth-flag-football-2024/2024-09-02/
LOCATION:Kessler Park\, 18401 Jurupa Ave 92316\, Bloomington\, CA\, 92316
CATEGORIES:Bloomington Rec and Park
END:VEVENT
BEGIN:VEVENT
DTSTART;TZID=America/Los_Angeles:20240821T180000
DTEND;TZID=America/Los_Angeles:20240821T200000
DTSTAMP:20260422T202736
CREATED:20240628T161418Z
LAST-MODIFIED:20240628T161454Z
UID:10006649-1724263200-1724270400@specialdistricts.sbcounty.gov
SUMMARY:Youth Flag Football 2024
DESCRIPTION:Flag Football Flyer 24This is a recreation youth sports program. \nLeague is open to all Boys & Girls ages 7 – 14. All Games are played at Kessler Park 18401 Jurupa Ave\, Bloomington CA 92136. \nGames are Monday and Wednesday. \nRegistration fee is $75.00. \nEach child will play 10 games and receive a full uniform. (Jersey\, Shorts and Socks) \nRegistration is OPEN NOW! Last day to register is Friday July 19th. \nTo register please visit us at Catalog – Special Districts Recreation and Park Districts
URL:https://specialdistricts.sbcounty.gov/event/youth-flag-football-2024/2024-08-21/
LOCATION:Kessler Park\, 18401 Jurupa Ave 92316\, Bloomington\, CA\, 92316
CATEGORIES:Bloomington Rec and Park
END:VEVENT
BEGIN:VEVENT
DTSTART;TZID=America/Los_Angeles:20240819T180000
DTEND;TZID=America/Los_Angeles:20240819T200000
DTSTAMP:20260422T202736
CREATED:20240628T161418Z
LAST-MODIFIED:20240628T161454Z
UID:10006646-1724090400-1724097600@specialdistricts.sbcounty.gov
SUMMARY:Youth Flag Football 2024
DESCRIPTION:Flag Football Flyer 24This is a recreation youth sports program. \nLeague is open to all Boys & Girls ages 7 – 14. All Games are played at Kessler Park 18401 Jurupa Ave\, Bloomington CA 92136. \nGames are Monday and Wednesday. \nRegistration fee is $75.00. \nEach child will play 10 games and receive a full uniform. (Jersey\, Shorts and Socks) \nRegistration is OPEN NOW! Last day to register is Friday July 19th. \nTo register please visit us at Catalog – Special Districts Recreation and Park Districts
URL:https://specialdistricts.sbcounty.gov/event/youth-flag-football-2024/2024-08-19/
LOCATION:Kessler Park\, 18401 Jurupa Ave 92316\, Bloomington\, CA\, 92316
CATEGORIES:Bloomington Rec and Park
END:VEVENT
BEGIN:VEVENT
DTSTART;TZID=America/Los_Angeles:20240807T180000
DTEND;TZID=America/Los_Angeles:20240807T200000
DTSTAMP:20260422T202736
CREATED:20240628T161418Z
LAST-MODIFIED:20240628T161454Z
UID:10006643-1723053600-1723060800@specialdistricts.sbcounty.gov
SUMMARY:Youth Flag Football 2024
DESCRIPTION:Flag Football Flyer 24This is a recreation youth sports program. \nLeague is open to all Boys & Girls ages 7 – 14. All Games are played at Kessler Park 18401 Jurupa Ave\, Bloomington CA 92136. \nGames are Monday and Wednesday. \nRegistration fee is $75.00. \nEach child will play 10 games and receive a full uniform. (Jersey\, Shorts and Socks) \nRegistration is OPEN NOW! Last day to register is Friday July 19th. \nTo register please visit us at Catalog – Special Districts Recreation and Park Districts
URL:https://specialdistricts.sbcounty.gov/event/youth-flag-football-2024/2024-08-07/
LOCATION:Kessler Park\, 18401 Jurupa Ave 92316\, Bloomington\, CA\, 92316
CATEGORIES:Bloomington Rec and Park
END:VEVENT
BEGIN:VEVENT
DTSTART;TZID=America/Los_Angeles:20240805T180000
DTEND;TZID=America/Los_Angeles:20240805T200000
DTSTAMP:20260422T202736
CREATED:20240628T161418Z
LAST-MODIFIED:20240628T161454Z
UID:10006640-1722880800-1722888000@specialdistricts.sbcounty.gov
SUMMARY:Youth Flag Football 2024
DESCRIPTION:Flag Football Flyer 24This is a recreation youth sports program. \nLeague is open to all Boys & Girls ages 7 – 14. All Games are played at Kessler Park 18401 Jurupa Ave\, Bloomington CA 92136. \nGames are Monday and Wednesday. \nRegistration fee is $75.00. \nEach child will play 10 games and receive a full uniform. (Jersey\, Shorts and Socks) \nRegistration is OPEN NOW! Last day to register is Friday July 19th. \nTo register please visit us at Catalog – Special Districts Recreation and Park Districts
URL:https://specialdistricts.sbcounty.gov/event/youth-flag-football-2024/2024-08-05/
LOCATION:Kessler Park\, 18401 Jurupa Ave 92316\, Bloomington\, CA\, 92316
CATEGORIES:Bloomington Rec and Park
END:VEVENT
BEGIN:VEVENT
DTSTART;TZID=America/Denver:20230811T170000
DTEND;TZID=America/Denver:20230811T190000
DTSTAMP:20260422T202736
CREATED:20230803T221344Z
LAST-MODIFIED:20230803T222546Z
UID:10000335-1691773200-1691780400@specialdistricts.sbcounty.gov
SUMMARY:Kessler Park Revitalization Groundbreaking Ceremony
DESCRIPTION:We’re excited to announce the Groundbreaking Ceremony for the Kessler Park Revitalization Project! Join us on Friday\, August 11th at 5 p.m. for the beginning of the transformation of Kessler Park. 
URL:https://specialdistricts.sbcounty.gov/event/kessler-park-revitalization-groundbreaking-ceremony/
LOCATION:Kessler Park\, 18401 Jurupa Ave 92316\, Bloomington\, CA\, 92316
CATEGORIES:Bloomington Rec and Park,Recreation and Park
ATTACH;FMTTYPE=image/jpeg:https://specialdistricts.sbcounty.gov/wp-content/uploads/sites/54/2023/08/Kessler-01-scaled.jpg
END:VEVENT
END:VCALENDAR